BEGIN:VCALENDAR
VERSION:2.0
PRODID:-//Πανελλήνικος Σύλλογος Χημικών Βιομηχανίας και Επιχειρήσεων - ECPv6.15.13.1//NONSGML v1.0//EN
CALSCALE:GREGORIAN
METHOD:PUBLISH
X-WR-CALNAME:Πανελλήνικος Σύλλογος Χημικών Βιομηχανίας και Επιχειρήσεων
X-ORIGINAL-URL:https://psxbe.gr
X-WR-CALDESC:Events for Πανελλήνικος Σύλλογος Χημικών Βιομηχανίας και Επιχειρήσεων
REFRESH-INTERVAL;VALUE=DURATION:PT1H
X-Robots-Tag:noindex
X-PUBLISHED-TTL:PT1H
BEGIN:VTIMEZONE
TZID:Europe/Athens
BEGIN:DAYLIGHT
TZOFFSETFROM:+0200
TZOFFSETTO:+0300
TZNAME:EEST
DTSTART:20200329T010000
END:DAYLIGHT
BEGIN:STANDARD
TZOFFSETFROM:+0300
TZOFFSETTO:+0200
TZNAME:EET
DTSTART:20201025T010000
END:STANDARD
BEGIN:DAYLIGHT
TZOFFSETFROM:+0200
TZOFFSETTO:+0300
TZNAME:EEST
DTSTART:20210328T010000
END:DAYLIGHT
BEGIN:STANDARD
TZOFFSETFROM:+0300
TZOFFSETTO:+0200
TZNAME:EET
DTSTART:20211031T010000
END:STANDARD
BEGIN:DAYLIGHT
TZOFFSETFROM:+0200
TZOFFSETTO:+0300
TZNAME:EEST
DTSTART:20220327T010000
END:DAYLIGHT
BEGIN:STANDARD
TZOFFSETFROM:+0300
TZOFFSETTO:+0200
TZNAME:EET
DTSTART:20221030T010000
END:STANDARD
END:VTIMEZONE
BEGIN:VEVENT
DTSTART;TZID=Europe/Athens:20210227T110000
DTEND;TZID=Europe/Athens:20210227T140000
DTSTAMP:20260420T051745
CREATED:20210210T183543Z
LAST-MODIFIED:20210210T183957Z
UID:240-1614423600-1614434400@psxbe.gr
SUMMARY:Διαδικτυακή Ημερίδα: «Ο Χημικός στη Βιομηχανία Φαρμάκων»
DESCRIPTION:Ο Πανελλήνιος Σύλλογος Χημικών Βιομηχανίας και Επιχειρήσεων (ΠΣΧΒΕ) με τη συμμετοχή και υποστήριξη του Επιστημονικού Τμήματος Φαρμάκων\, Φαρμακοχημείας και Καλλυντικών της ΕΕΧ οργανώνει επιμορφωτική ημερίδα το Σάββατο 27 Φεβρουαρίου 2021 (11.00-14.00) με θέμα: \n«Ο Χημικός στη Βιομηχανία Φαρμάκων» \nΤο πρόγραμμα της ημερίδας έχει συνοπτικά ως εξής: \n\nΕισαγωγή – υποδοχή (ΔΣ ΠΣΧΒΕ)\nΧαιρετισμός από το ΕΤ Φαρμάκων (Γ.Ρασσιάς\, πρόεδρος ΕΤ\, επίκουρος καθηγητής τμ. Χημείας\, Πανεπιστήμιο Πατρών)\nΈλεγχος ποιότητας φαρμάκων: πλαίσιο κανονιστικών απαιτήσεων (Βασίλης Βιολάκης\, Διευθυντής Εργαστηρίων ΕΟΦ\, Εκπρόσωπος στο ευρωπαϊκό δίκτυο αρμόδιων Εργαστηρίων ελέγχου φαρμάκων / OMCL-net).\nΔιασφάλιση ποιότητας φαρμάκων (Ειρήνη Καρπαδάκη\, M.Sc Χημικός)\nΟ ρόλος του Χημικού στον έλεγχο Ποιότητας Φαρμάκων (Κων/νος Σκοπελίτης\, Χημικός\, Quality Affairs New Products Senior Principal / QP\, Pharmaten)\nΔιπλώματα ευρεσιτεχνίας και φαρμακευτική βιομηχανία (Αννέτα Σμυρνιώτου\, Δρ. Χημικός\, Intellectual Property Officer\, Rafarm S.A)\n\nΗ ημερίδα απευθύνεται: α) σε όλους τους επιστήμονες φαρμάκων που συμμετέχουν στην παραγωγή\, στον έλεγχο\, στη διανομή\, στη διαχείριση επιχειρήσεων φαρμάκων β) σε νέους συναδέλφους που διερευνούν την αγορά εργασίας γ) σε μελλοντικούς συναδέλφους. \nΗ ημερίδα θα πραγματοποιηθεί μέσω της δικτυακής πλατφόρμας zoom στα στοιχεία: \nhttps://zoom.us/j/99121101155?pwd=MVBFVWYxWnVpaUJnVWZPeTJwYWNLdz09\nMeeting ID: 991 2110 1155\nPasscode: 475734 \nκαι η συμμετοχή είναι ελεύθερη. \nΣτους συμμετέχοντες θα δοθεί βεβαίωση παρακολούθησης εφόσον ζητηθεί.
URL:https://psxbe.gr/event/%ce%b4%ce%b9%ce%b1%ce%b4%ce%b9%ce%ba%cf%84%cf%85%ce%b1%ce%ba%ce%ae-%ce%b7%ce%bc%ce%b5%cf%81%ce%af%ce%b4%ce%b1-%ce%bf-%cf%87%ce%b7%ce%bc%ce%b9%ce%ba%cf%8c%cf%82-%cf%83%cf%84%ce%b7-%ce%b2%ce%b9/
LOCATION:Διαδίκτυο (Zoom)
CATEGORIES:ΕΕΧ,ΠΣΧΒΕ
ATTACH;FMTTYPE=image/png:https://psxbe.gr/wp-content/uploads/ChemistPharmaceuticals.png
ORGANIZER;CN="%CE%A0%CE%A3%CE%A7%CE%92%CE%95":MAILTO:psxbe.official@gmail.com
END:VEVENT
END:VCALENDAR